BEGIN:VCALENDAR
VERSION:2.0
PRODID:-//Stadt Rhens//NONSGML kigkonsult.se iCalcreator 2.30.10//
CALSCALE:GREGORIAN
METHOD:PUBLISH
UID:99168ff3-7db7-4921-b60a-3a6c466f08a7
X-WR-CALNAME:iCagenda
X-WR-CALDESC:Event Management Extension for Joomla!
X-WR-RELCALID:3E26604A-50F4-4449-8B3E-E4F4932D05B5
X-WR-TIMEZONE:UTC
BEGIN:VTIMEZONE
TZID:UTC
END:VTIMEZONE
BEGIN:VEVENT
UID:a9b80fc9-c4e2-4395-9fae-b989a2d215c9
DTSTAMP:20260421T082201Z
CATEGORIES:Zukunftswerkstatt
CLASS:PUBLIC
DESCRIPTION:
DTSTART:20260423T180000Z
DTEND:20260423T220000Z
GEO:+50.281418;+7.616806
LOCATION:Hochstr. 15\, 56321 Rhens
ORGANIZER:
SEQUENCE:1
SUMMARY:Zukunftstag 23.04.2026
TRANSP:OPAQUE
URL:https://rhens.de/leben-in-rhens/veranstaltungen/86-zukunftstag-23-04-20
 26
END:VEVENT
END:VCALENDAR
